BEGIN:VCALENDAR
VERSION:2.0
PRODID:-//Föreningen för Göteborgs Försvar - ECPv6.15.12.2//NONSGML v1.0//EN
CALSCALE:GREGORIAN
METHOD:PUBLISH
X-ORIGINAL-URL:https://goteborgsforsvar.se
X-WR-CALDESC:Händelser för Föreningen för Göteborgs Försvar
REFRESH-INTERVAL;VALUE=DURATION:PT1H
X-Robots-Tag:noindex
X-PUBLISHED-TTL:PT1H
BEGIN:VTIMEZONE
TZID:Europe/Paris
BEGIN:DAYLIGHT
TZOFFSETFROM:+0100
TZOFFSETTO:+0200
TZNAME:CEST
DTSTART:20240331T010000
END:DAYLIGHT
BEGIN:STANDARD
TZOFFSETFROM:+0200
TZOFFSETTO:+0100
TZNAME:CET
DTSTART:20241027T010000
END:STANDARD
BEGIN:DAYLIGHT
TZOFFSETFROM:+0100
TZOFFSETTO:+0200
TZNAME:CEST
DTSTART:20250330T010000
END:DAYLIGHT
BEGIN:STANDARD
TZOFFSETFROM:+0200
TZOFFSETTO:+0100
TZNAME:CET
DTSTART:20251026T010000
END:STANDARD
BEGIN:DAYLIGHT
TZOFFSETFROM:+0100
TZOFFSETTO:+0200
TZNAME:CEST
DTSTART:20260329T010000
END:DAYLIGHT
BEGIN:STANDARD
TZOFFSETFROM:+0200
TZOFFSETTO:+0100
TZNAME:CET
DTSTART:20261025T010000
END:STANDARD
END:VTIMEZONE
BEGIN:VEVENT
DTSTART;VALUE=DATE:20250602
DTEND;VALUE=DATE:20250610
DTSTAMP:20260419T192743
CREATED:20250216T105240Z
LAST-MODIFIED:20250226T201820Z
UID:989-1748822400-1749513599@goteborgsforsvar.se
SUMMARY:Militärhistorisk resa till Baltikum\, juni 2025
DESCRIPTION:Kunglig Älvsborgs Regementes Kamratförening välkomnar medlemmar i Föreningen för Göteborgs Försvar att åka med på en mycket intressant militärhistorisk resa till Baltikum. Under en dryg vecka i början av juni kommer gruppen att besöka ett flertal krigshistoriska platser\, muséer och fort i Litauen och Lettland. \nDet utlovas en lärorik och angenäm resa där mycket kommer att gå i det kalla krigets tecken. Se bifogad inbjudan för mer information och observerar att antalet platser är begränsat. Sista anmälningsdag är 2025-03-21. \n Anmälan eller frågor sker till: Fredrik Hagman\, e-post: fredrik.hagman@uhb.se\, telefon: 0733-207842 alternativt Mathias Larsson\, e-post: mathias@djungeln.se\, telefon: 0733-180093.
URL:https://goteborgsforsvar.se/event/militarhistorisk-resa-till-baltikum-juni-2025/
CATEGORIES:Studieresa
ATTACH;FMTTYPE=image/jpeg:https://goteborgsforsvar.se/wp-content/uploads/2025/02/VilniusTower.jpg
END:VEVENT
END:VCALENDAR