BEGIN:VCALENDAR
VERSION:2.0
PRODID:-//Föreningen för Göteborgs Försvar - ECPv6.15.12.2//NONSGML v1.0//EN
CALSCALE:GREGORIAN
METHOD:PUBLISH
X-WR-CALNAME:Föreningen för Göteborgs Försvar
X-ORIGINAL-URL:https://goteborgsforsvar.se
X-WR-CALDESC:Händelser för Föreningen för Göteborgs Försvar
REFRESH-INTERVAL;VALUE=DURATION:PT1H
X-Robots-Tag:noindex
X-PUBLISHED-TTL:PT1H
BEGIN:VTIMEZONE
TZID:Europe/Paris
BEGIN:DAYLIGHT
TZOFFSETFROM:+0100
TZOFFSETTO:+0200
TZNAME:CEST
DTSTART:20240331T010000
END:DAYLIGHT
BEGIN:STANDARD
TZOFFSETFROM:+0200
TZOFFSETTO:+0100
TZNAME:CET
DTSTART:20241027T010000
END:STANDARD
BEGIN:DAYLIGHT
TZOFFSETFROM:+0100
TZOFFSETTO:+0200
TZNAME:CEST
DTSTART:20250330T010000
END:DAYLIGHT
BEGIN:STANDARD
TZOFFSETFROM:+0200
TZOFFSETTO:+0100
TZNAME:CET
DTSTART:20251026T010000
END:STANDARD
BEGIN:DAYLIGHT
TZOFFSETFROM:+0100
TZOFFSETTO:+0200
TZNAME:CEST
DTSTART:20260329T010000
END:DAYLIGHT
BEGIN:STANDARD
TZOFFSETFROM:+0200
TZOFFSETTO:+0100
TZNAME:CET
DTSTART:20261025T010000
END:STANDARD
END:VTIMEZONE
BEGIN:VEVENT
DTSTART;VALUE=DATE:20250405
DTEND;VALUE=DATE:20250413
DTSTAMP:20260419T211149
CREATED:20241111T142935Z
LAST-MODIFIED:20241209T212354Z
UID:940-1743811200-1744502399@goteborgsforsvar.se
SUMMARY:"När Balkan brann" - spännande studieresa till Balkan april 2025
DESCRIPTION:Kunglig Älvsborgs Regementes Kamratförening välkomnar medlemmar i Föreningen för Göteborgs Försvar att åka med på en mycket intressant militärhistorisk studieresa till Bosnien Hercegovina den 5-12 april 2025. Se inbjudan för mer information och observerar att antalet platser är begränsat. Sista anmälningsdag är 2025-01-12. \nPreliminär resplan (5-12 april):\nDag 1: Incheckning Arlanda från kl 06:00\, Flyg Split (Norwegian) kl 07:30. Ankomst Split kl. 11:30.Bussresa till Mostar ca 3 tim. Ankomst till Hotellet\, incheckning. Välkomstmöte på hotellet. Egen tid i Mostar.\nDag 2: Frukost. Samling i konferenssalen på Hotellet kl 08:30. Introduktion av veckan. Besök i Mostar. Bussfärd till Sarajevo\, under resan besök vid sjukhuset i Bakovici. Välkomstmiddag på Hotellet i Sarajevo.\nDag 3: Avfärd från Saraj mot ett besök i Varesområdet med Stupni Do masakern\, svenska UN skyttekompaniets bas mm.\nDag 4: Avfärd och besök i Srebrenica. Besök krigskyrkogården. En tyst minut.\nDag 5: Kronprinsmuseet. Sarejavo marknad. Sniper alley. Ev. OS-byn och 10. UN skyttekompaniet.\nDag 6: Besök Sarajevo. Mount Ingmans källor. Flygfältsmuseet. Tito villan. Försvarsstriden utveckling 1914-1994-2024.\nDag 7: Egen tid i Sarajevo på förmiddagen. Bussfärd till Split. Avslutningsmiddag kl. 19:00 på Restaurang i Split.\nDag 8: Utcheckning kl 08:00. Busstransport till Split flygplats. Incheckning från kl 09:00. Ankomst Arlanda kl 13:40. \n 
URL:https://goteborgsforsvar.se/event/nar-balkan-brann-spannande-studieresa-till-balkan-april-2025/
CATEGORIES:Studieresa
ATTACH;FMTTYPE=image/jpeg:https://goteborgsforsvar.se/wp-content/uploads/2024/01/Bridge_Mostar.jpg
END:VEVENT
END:VCALENDAR